BEGIN:VCALENDAR
VERSION:2.0
PRODID:-//California Desert Association of REALTORS® - ECPv6.15.20//NONSGML v1.0//EN
CALSCALE:GREGORIAN
METHOD:PUBLISH
X-WR-CALNAME:California Desert Association of REALTORS®
X-ORIGINAL-URL:https://cdaronline.org
X-WR-CALDESC:Events for California Desert Association of REALTORS®
REFRESH-INTERVAL;VALUE=DURATION:PT1H
X-Robots-Tag:noindex
X-PUBLISHED-TTL:PT1H
BEGIN:VTIMEZONE
TZID:America/Los_Angeles
BEGIN:DAYLIGHT
TZOFFSETFROM:-0800
TZOFFSETTO:-0700
TZNAME:PDT
DTSTART:20250309T100000
END:DAYLIGHT
BEGIN:STANDARD
TZOFFSETFROM:-0700
TZOFFSETTO:-0800
TZNAME:PST
DTSTART:20251102T090000
END:STANDARD
BEGIN:DAYLIGHT
TZOFFSETFROM:-0800
TZOFFSETTO:-0700
TZNAME:PDT
DTSTART:20260308T100000
END:DAYLIGHT
BEGIN:STANDARD
TZOFFSETFROM:-0700
TZOFFSETTO:-0800
TZNAME:PST
DTSTART:20261101T090000
END:STANDARD
BEGIN:DAYLIGHT
TZOFFSETFROM:-0800
TZOFFSETTO:-0700
TZNAME:PDT
DTSTART:20270314T100000
END:DAYLIGHT
BEGIN:STANDARD
TZOFFSETFROM:-0700
TZOFFSETTO:-0800
TZNAME:PST
DTSTART:20271107T090000
END:STANDARD
END:VTIMEZONE
BEGIN:VEVENT
DTSTART;TZID=America/Los_Angeles:20260506T100000
DTEND;TZID=America/Los_Angeles:20260506T110000
DTSTAMP:20260424T013211
CREATED:20251112T230954Z
LAST-MODIFIED:20251112T230954Z
UID:10002211-1778061600-1778065200@cdaronline.org
SUMMARY:Desert YPN Committee
DESCRIPTION:This is the monthly meeting of the Desert YPN (Young Professionals Network) Committee. \nDISCLAIMER:  DO NOT PARTICIPATE in any CDAR Video Conferencing Committee Meetings or Events while operating a motor vehicle. California has various laws prohibiting distracted driving. (Vehicle Code Sections 27602\, 23123\, 23123.5\, and 23125\, among others).
URL:https://cdaronline.org/event/desert-ypn-committee-2026/2026-05-06/
CATEGORIES:Commitees
END:VEVENT
END:VCALENDAR