BEGIN:VCALENDAR
VERSION:2.0
PRODID:-//California Desert Association of REALTORS® - ECPv6.15.20//NONSGML v1.0//EN
CALSCALE:GREGORIAN
METHOD:PUBLISH
X-ORIGINAL-URL:https://cdaronline.org
X-WR-CALDESC:Events for California Desert Association of REALTORS®
REFRESH-INTERVAL;VALUE=DURATION:PT1H
X-Robots-Tag:noindex
X-PUBLISHED-TTL:PT1H
BEGIN:VTIMEZONE
TZID:America/Los_Angeles
BEGIN:DAYLIGHT
TZOFFSETFROM:-0800
TZOFFSETTO:-0700
TZNAME:PDT
DTSTART:20250309T100000
END:DAYLIGHT
BEGIN:STANDARD
TZOFFSETFROM:-0700
TZOFFSETTO:-0800
TZNAME:PST
DTSTART:20251102T090000
END:STANDARD
BEGIN:DAYLIGHT
TZOFFSETFROM:-0800
TZOFFSETTO:-0700
TZNAME:PDT
DTSTART:20260308T100000
END:DAYLIGHT
BEGIN:STANDARD
TZOFFSETFROM:-0700
TZOFFSETTO:-0800
TZNAME:PST
DTSTART:20261101T090000
END:STANDARD
BEGIN:DAYLIGHT
TZOFFSETFROM:-0800
TZOFFSETTO:-0700
TZNAME:PDT
DTSTART:20270314T100000
END:DAYLIGHT
BEGIN:STANDARD
TZOFFSETFROM:-0700
TZOFFSETTO:-0800
TZNAME:PST
DTSTART:20271107T090000
END:STANDARD
END:VTIMEZONE
BEGIN:VEVENT
DTSTART;TZID=America/Los_Angeles:20260303T100000
DTEND;TZID=America/Los_Angeles:20260303T110000
DTSTAMP:20260424T013823
CREATED:20251112T224935Z
LAST-MODIFIED:20260105T201251Z
UID:10002361-1772532000-1772535600@cdaronline.org
SUMMARY:Affiliate Committee
DESCRIPTION:This is the monthly meeting of the Affiliate Committee. \nDISCLAIMER:  DO NOT PARTICIPATE in any CDAR Video Conferencing Committee Meetings or Events while operating a motor vehicle. California has various laws prohibiting distracted driving. (Vehicle Code Sections 27602\, 23123\, 23123.5\, and 23125\, among others).
URL:https://cdaronline.org/event/affiliate-committee-2026/2026-03-03/
CATEGORIES:Commitees
END:VEVENT
BEGIN:VEVENT
DTSTART;TZID=America/Los_Angeles:20260303T150000
DTEND;TZID=America/Los_Angeles:20260303T160000
DTSTAMP:20260424T013823
CREATED:20260204T233714Z
LAST-MODIFIED:20260302T213935Z
UID:10002406-1772550000-1772553600@cdaronline.org
SUMMARY:CANCELLED - 2026 Spring Summit Task Force
DESCRIPTION:The 2026 Spring Summit Task Force for Tuesday\, March 3rd has been cancelled. Thank you. \nDISCLAIMER:  DO NOT PARTICIPATE in any CDAR Video Conferencing Committee Meetings or Events while operating a motor vehicle. California has various laws prohibiting distracted driving. (Vehicle Code Sections 27602\, 23123\, 23123.5\, and 23125\, among others).
URL:https://cdaronline.org/event/2026springsummittf-030326/
CATEGORIES:Commitees,Task Force
END:VEVENT
END:VCALENDAR