BEGIN:VCALENDAR
VERSION:2.0
PRODID:-//California Desert Association of REALTORS® - ECPv6.15.20//NONSGML v1.0//EN
CALSCALE:GREGORIAN
METHOD:PUBLISH
X-WR-CALNAME:California Desert Association of REALTORS®
X-ORIGINAL-URL:https://cdaronline.org
X-WR-CALDESC:Events for California Desert Association of REALTORS®
REFRESH-INTERVAL;VALUE=DURATION:PT1H
X-Robots-Tag:noindex
X-PUBLISHED-TTL:PT1H
BEGIN:VTIMEZONE
TZID:America/Los_Angeles
BEGIN:DAYLIGHT
TZOFFSETFROM:-0800
TZOFFSETTO:-0700
TZNAME:PDT
DTSTART:20250309T100000
END:DAYLIGHT
BEGIN:STANDARD
TZOFFSETFROM:-0700
TZOFFSETTO:-0800
TZNAME:PST
DTSTART:20251102T090000
END:STANDARD
BEGIN:DAYLIGHT
TZOFFSETFROM:-0800
TZOFFSETTO:-0700
TZNAME:PDT
DTSTART:20260308T100000
END:DAYLIGHT
BEGIN:STANDARD
TZOFFSETFROM:-0700
TZOFFSETTO:-0800
TZNAME:PST
DTSTART:20261101T090000
END:STANDARD
BEGIN:DAYLIGHT
TZOFFSETFROM:-0800
TZOFFSETTO:-0700
TZNAME:PDT
DTSTART:20270314T100000
END:DAYLIGHT
BEGIN:STANDARD
TZOFFSETFROM:-0700
TZOFFSETTO:-0800
TZNAME:PST
DTSTART:20271107T090000
END:STANDARD
END:VTIMEZONE
BEGIN:VEVENT
DTSTART;TZID=America/Los_Angeles:20260422T100000
DTEND;TZID=America/Los_Angeles:20260422T110000
DTSTAMP:20260421T034359
CREATED:20260114T005251Z
LAST-MODIFIED:20260114T172953Z
UID:15446-1776852000-1776855600@cdaronline.org
SUMMARY:Office Hours with C.A.R. zipForm Experts Webinar
DESCRIPTION:Have questions about zipForm? Join the C.A.R. experts on Wednesday\, April 22nd from 10 AM to 11 AM for zipForm Office Hours and take the opportunity to pick their brains. The experts will be in session to answer your zipForm questions and get functionality problems resolved. This webinar will be recorded\, and all registrants will receive a link to the recording 24 hours after the broadcast ends. \nThis webinar is free for members\, so register today! Can’t make it? Register anyway\, and they’ll send you the recording. \nDISCLAIMER:  DO NOT PARTICIPATE in any CDAR Video Conferencing Committee Meetings or Events while operating a motor vehicle. California has various laws prohibiting distracted driving. (Vehicle Code Sections 27602\, 23123\, 23123.5\, and 23125\, among others). CDAR does not endorse the view\, opinions\, policies or activities of the person or entity by the use of our facility or marketing materials.
URL:https://cdaronline.org/event/zipformexperts-042226/
CATEGORIES:Education,Webinar
ATTACH;FMTTYPE=image/jpeg:https://cdaronline.org/wp-content/uploads/2026/01/zipFormExpertsWebinar.jpg
END:VEVENT
END:VCALENDAR